{"text_format":"1","workbook":"xlsx","n_sheets":3,"sheets":["申込用紙","記入上の注意","プログラム用"],"not_rendered":{"charts":0,"images":1,"macros":1,"external_links":0,"defined_names":0,"comments":0,"pivot_tables":0},"unopened":[],"bounds":{"document_bytes":16777216,"sheet_cells":100000,"rows_first":2000,"rows_last":500,"rows_between":2000,"halvings":0,"cell_chars":16384,"cell_head_chars":4096},"cells_cut":0,"cells_raw":0,"read":"whole","date_system":"1900"}

{"sheet":"申込用紙","index":0,"n_rows":31,"n_cols":29,"rows_kept":31,"cut":false,"hidden":false,"merged":[[19,2,20,3],[19,4,19,5],[19,6,20,7],[19,8,19,13],[20,8,20,10],[20,11,20,13],[21,2,21,3],[22,2,22,3],[27,2,27,3],[27,8,27,10],[27,11,27,13],[21,11,21,13],[27,21,27,29],[23,21,23,29],[24,8,24,10],[24,11,24,13],[24,21,24,29],[25,8,25,10],[25,11,25,13],[25,21,25,29],[26,2,26,3],[24,2,24,3],[25,2,25,3],[23,2,23,3],[9,11,9,13],[10,8,10,10],[10,11,10,13],[11,8,11,10],[11,11,11,13],[9,2,9,3],[10,2,10,3],[11,2,11,3],[18,19,18,20],[2,16,2,17],[3,16,3,17],[2,21,2,22],[3,21,3,22],[2,26,2,27],[3,26,3,27],[2,12,2,14],[2,6,2,11],[6,16,6,18],[6,19,6,20],[30,13,30,14],[30,15,30,20],[9,21,9,29],[3,23,3,25],[29,5,29,11],[6,11,6,13],[3,28,3,30],[3,12,3,14],[18,11,18,13],[19,14,20,20],[19,21,20,29],[6,21,6,25],[18,6,18,8],[18,9,18,10],[18,14,18,15],[18,4,18,5],[26,8,26,10],[26,11,26,13],[26,21,26,29],[18,16,18,18],[15,8,15,10],[15,11,15,13],[18,21,18,25],[21,8,21,10],[0,0,0,32],[14,2,14,3],[15,2,15,3],[10,21,10,29],[11,21,11,29],[12,21,12,29],[13,21,13,29],[14,21,14,29],[15,21,15,29],[2,0,2,3],[3,0,3,3],[2,23,2,25],[2,31,2,32],[3,31,3,32],[5,2,5,3],[6,6,6,8],[6,9,6,10],[8,8,8,10],[8,11,8,13],[6,14,6,15],[2,28,2,30],[2,4,2,5],[3,4,3,11],[6,4,6,5],[21,21,21,29],[22,8,22,10],[22,11,22,13],[22,21,22,29],[23,8,23,10],[23,11,23,13],[6,2,6,3],[12,2,12,3],[13,2,13,3],[17,2,17,3],[7,4,7,5],[7,8,7,13],[7,21,8,29],[18,2,18,3],[7,2,8,3],[7,6,8,7],[7,14,8,20],[12,8,12,10],[12,11,12,13],[13,8,13,10],[13,11,13,13],[14,8,14,10],[14,11,14,13],[9,8,9,10]]}
["令和７年度（第６７回）香川県高等学校新人弓道競技大会　参加申込書"]
[]
["学校名",null,null,null,null,null,"高等学校",null,null,null,null,null,"種目番号",null,null,16,"参　 加",null,"男子",null,"人","参加種別",null,"男子団体",null,null,null,null,"女子団体"]
["引率者（監督を含む）",null,null,null,null,null,null,null,null,null,null,null,"高体連番号",null,null,null,"実人数",null,"女子",null,"人","（○ ×）",null,"男子個人",null,null,null,null,"女子個人"]
[]
[null,null,"男子"]
[null,null,"監督",null,null,null,"該当校職員",null,null,null,null,"外部指導者",null,null,null,null,"部活動指導員",null,null,null,null,"←○を入れること"]
[null,null,"立順",null,"選手氏名",null,"学年",null,"ふりがな　",null,null,null,null,null,"生年月日",null,null,null,null,null,null,"備考"]
[null,null,null,null,"姓","名",null,null,"せい",null,null,"めい"]
[null,null,1,null,null,null,null,"年",null,null,null,null,null,null,"平成",null,"年",null,"月",null,"日"]
[null,null,2,null,null,null,null,"年",null,null,null,null,null,null,"平成",null,"年",null,"月",null,"日"]
[null,null,3,null,null,null,null,"年",null,null,null,null,null,null,"平成",null,"年",null,"月",null,"日"]
[null,null,4,null,null,null,null,"年",null,null,null,null,null,null,"平成",null,"年",null,"月",null,"日"]
[null,null,5,null,null,null,null,"年",null,null,null,null,null,null,"平成",null,"年",null,"月",null,"日"]
[null,null,"6(補）",null,null,null,null,"年",null,null,null,null,null,null,"平成",null,"年",null,"月",null,"日"]
[null,null,"7(補）",null,null,null,null,"年",null,null,null,null,null,null,"平成",null,"年",null,"月",null,"日"]
[]
[null,null,"女子"]
[null,null,"監督",null,null,null,"該当校職員",null,null,null,null,"外部指導者",null,null,null,null,"部活動指導員",null,null,null,null,"←○を入れること"]
[null,null,"立順",null,"選手氏名",null,"学年",null,"ふりがな　",null,null,null,null,null,"生年月日",null,null,null,null,null,null,"備考"]
[null,null,null,null,"姓","名",null,null,"せい",null,null,"めい"]
[null,null,1,null,null,null,null,"年",null,null,null,null,null,null,"平成",null,"年",null,"月",null,"日"]
[null,null,2,null,null,null,null,"年",null,null,null,null,null,null,"平成",null,"年",null,"月",null,"日"]
[null,null,3,null,null,null,null,"年",null,null,null,null,null,null,"平成",null,"年",null,"月",null,"日"]
[null,null,4,null,null,null,null,"年",null,null,null,null,null,null,"平成",null,"年",null,"月",null,"日"]
[null,null,5,null,null,null,null,"年",null,null,null,null,null,null,"平成",null,"年",null,"月",null,"日"]
[null,null,"6(補）",null,null,null,null,"年",null,null,null,null,null,null,"平成",null,"年",null,"月",null,"日"]
[null,null,"7(補）",null,null,null,null,"年",null,null,null,null,null,null,"平成",null,"年",null,"月",null,"日"]
[]
[null,null,null,null,null,"上記の者は、表記大会に出場することを認めます。",null,null,null,null,null,null,null,"令和",null,"年",null,"月",null,"日"]
[null,null,null,null,null,null,null,null,null,null,null,null,null,"学校長",null,null,null,null,null,null,null,null,"印"]

{"sheet":"記入上の注意","index":1,"n_rows":31,"n_cols":29,"rows_kept":31,"cut":false,"hidden":false,"merged":[[18,16,18,18],[18,19,18,20],[18,21,18,25],[29,5,29,11],[30,13,30,14],[30,15,30,20],[18,14,18,15],[14,21,14,29],[15,21,15,29],[26,2,26,3],[26,8,26,10],[26,11,26,13],[26,21,26,29],[27,2,27,3],[27,8,27,10],[27,11,27,13],[27,21,27,29],[24,2,24,3],[24,8,24,10],[24,11,24,13],[24,21,24,29],[25,2,25,3],[25,8,25,10],[25,11,25,13],[25,21,25,29],[22,2,22,3],[22,8,22,10],[22,11,22,13],[22,21,22,29],[23,2,23,3],[23,8,23,10],[23,11,23,13],[23,21,23,29],[19,21,20,29],[20,8,20,10],[20,11,20,13],[21,2,21,3],[21,8,21,10],[21,11,21,13],[21,21,21,29],[19,2,20,3],[19,4,19,5],[19,6,20,7],[19,8,19,13],[19,14,20,20],[17,2,17,3],[18,2,18,3],[18,4,18,5],[18,6,18,8],[18,9,18,10],[18,11,18,13],[14,2,14,3],[14,8,14,10],[14,11,14,13],[15,2,15,3],[15,8,15,10],[15,11,15,13],[12,2,12,3],[12,8,12,10],[12,11,12,13],[12,21,12,29],[13,2,13,3],[13,8,13,10],[13,11,13,13],[13,21,13,29],[10,2,10,3],[10,8,10,10],[10,11,10,13],[10,21,10,29],[11,2,11,3],[11,8,11,10],[11,11,11,13],[11,21,11,29],[9,2,9,3],[9,8,9,10],[9,11,9,13],[9,21,9,29],[6,14,6,15],[7,2,8,3],[7,4,7,5],[7,6,8,7],[7,8,7,13],[7,14,8,20],[6,21,6,25],[7,21,8,29],[8,8,8,10],[8,11,8,13],[5,2,5,3],[6,2,6,3],[6,4,6,5],[6,6,6,8],[6,9,6,10],[6,11,6,13],[6,16,6,18],[6,19,6,20],[3,0,3,3],[3,4,3,11],[3,12,3,14],[3,16,3,17],[3,21,3,22],[3,23,3,25],[3,26,3,27],[3,28,3,30],[3,31,3,32],[0,0,0,32],[2,0,2,3],[2,4,2,5],[2,6,2,11],[2,12,2,14],[2,16,2,17],[2,21,2,22],[2,23,2,25],[2,26,2,27],[2,28,2,30],[2,31,2,32]]}
[{"$f":"申込用紙!A1","v":"令和７年度（第６７回）香川県高等学校新人弓道競技大会　参加申込書"}]
[]
["学校名",null,null,null,null,null,"高等学校",null,null,null,null,null,"種目番号",null,null,16,"参　 加",null,"男子",null,"人","参加種別",null,"男子団体",null,null,null,null,"女子団体"]
["引率者（監督を含む）",null,null,null,null,null,null,null,null,null,null,null,"高体連番号",null,null,null,"実人数",null,"女子",null,"人","（○ ×）",null,"男子個人",null,null,null,null,"女子個人"]
[]
[null,null,"男子"]
[null,null,"監督",null,null,null,"該当校職員",null,null,null,null,"外部指導者",null,null,null,null,"部活動指導員",null,null,null,null,"←○を入れること"]
[null,null,"立順",null,"選手氏名",null,"学年",null,"ふりがな　",null,null,null,null,null,"生年月日",null,null,null,null,null,null,"備考"]
[null,null,null,null,"姓","名",null,null,"せい",null,null,"めい"]
[null,null,1,null,null,null,null,"年",null,null,null,null,null,null,"平成",null,"年",null,"月",null,"日"]
[null,null,2,null,null,null,null,"年",null,null,null,null,null,null,"平成",null,"年",null,"月",null,"日"]
[null,null,3,null,null,null,null,"年",null,null,null,null,null,null,"平成",null,"年",null,"月",null,"日"]
[null,null,4,null,null,null,null,"年",null,null,null,null,null,null,"平成",null,"年",null,"月",null,"日"]
[null,null,5,null,null,null,null,"年",null,null,null,null,null,null,"平成",null,"年",null,"月",null,"日"]
[null,null,"6(補）",null,null,null,null,"年",null,null,null,null,null,null,"平成",null,"年",null,"月",null,"日"]
[null,null,"7(補）",null,null,null,null,"年",null,null,null,null,null,null,"平成",null,"年",null,"月",null,"日"]
[]
[null,null,"女子"]
[null,null,"監督",null,null,null,"該当校職員",null,null,null,null,"外部指導者",null,null,null,null,"部活動指導員",null,null,null,null,"←○を入れること"]
[null,null,"立順",null,"選手氏名",null,"学年",null,"ふりがな　",null,null,null,null,null,"生年月日",null,null,null,null,null,null,"備考"]
[null,null,null,null,"姓","名",null,null,"せい",null,null,"めい"]
[null,null,1,null,null,null,null,"年",null,null,null,null,null,null,"平成",null,"年",null,"月",null,"日"]
[null,null,2,null,null,null,null,"年",null,null,null,null,null,null,"平成",null,"年",null,"月",null,"日"]
[null,null,3,null,null,null,null,"年",null,null,null,null,null,null,"平成",null,"年",null,"月",null,"日"]
[null,null,4,null,null,null,null,"年",null,null,null,null,null,null,"平成",null,"年",null,"月",null,"日"]
[null,null,5,null,null,null,null,"年",null,null,null,null,null,null,"平成",null,"年",null,"月",null,"日"]
[null,null,"6(補）",null,null,null,null,"年",null,null,null,null,null,null,"平成",null,"年",null,"月",null,"日"]
[null,null,"7(補）",null,null,null,null,"年",null,null,null,null,null,null,"平成",null,"年",null,"月",null,"日"]
[]
[null,null,null,null,null,"上記の者は、表記大会に出場することを認めます。",null,null,null,null,null,null,null,"令和",null,"年",null,"月",null,"日"]
[null,null,null,null,null,null,null,null,null,null,null,null,null,"学校長",null,null,null,null,null,null,null,null,"印"]

{"sheet":"プログラム用","index":2,"n_rows":39,"n_cols":19,"rows_kept":39,"cut":false,"hidden":false,"merged":[[38,2,38,3],[5,1,11,1],[12,1,18,1],[35,2,35,3],[36,2,36,3],[37,2,37,3],[32,2,32,3],[33,2,33,3],[34,2,34,3],[31,2,31,3],[28,2,28,3],[29,2,29,3],[30,2,30,3],[25,2,25,3],[26,2,26,3],[27,2,27,3],[24,2,24,3],[24,10,24,11],[18,2,18,3],[16,2,16,3],[17,2,17,3],[14,2,14,3],[15,2,15,3],[12,2,12,3],[13,2,13,3],[10,2,10,3],[11,2,11,3],[5,2,5,3],[8,2,8,3],[9,2,9,3],[6,2,6,3],[7,2,7,3],[0,0,0,31],[2,0,2,3],[2,5,2,10],[4,2,4,3],[4,10,4,11]]}
["プログラム作成用シート　プログラム作成者が使用します。"]
[]
["学校名",null,null,null,{"$f":"IF(申込用紙!E3=\"\",\"\",申込用紙!E3)","v":""},"高等学校"]
[]
[null,null,"立順",null,"選手氏名","ふりがな　",null,null,null,null,"学年"]
[null,"男子",1,null,"岡本　","",null,null,null,null,"","年",null,null,null,null,"以下のメッセージが出た場合、は「コンテンツの有効化」をクリックしてください。"]
[null,null,2,null,"","",null,null,null,null,"","年"]
[null,null,3,null,"","",null,null,null,null,"","年"]
[null,null,4,null,"","",null,null,null,null,"","年"]
[null,null,5,null,"","",null,null,null,null,"","年"]
[null,null,"6(補）",null,"","",null,null,null,null,"","年"]
[null,null,"7(補）",null,"","",null,null,null,null,"","年"]
[null,"女子",1,null,"","",null,null,null,null,"","年"]
[null,null,2,null,"","",null,null,null,null,"","年"]
[null,null,3,null,"","",null,null,null,null,"","年"]
[null,null,4,null,"","",null,null,null,null,"","年"]
[null,null,5,null,"","",null,null,null,null,"","年"]
[null,null,"6(補）",null,"","",null,null,null,null,"","年",null,null,null,null,"上記をクリックすると、プログラム作成用のデータが作成されます。"]
[null,null,"7(補）",null,"","",null,null,null,null,"","年",null,null,null,null,"作成されたデータを「コピー」して、プログラムに「値の貼り付け」を行ってください。"]
[]
[]
[]
[]
[]
[null,null,"立順",null,"選手氏名","ふりがな　",null,null,null,null,"学年",null,null,"姓","名","文字数",2,3,4]
[null,1,1,null,{"$f":"IF(P26=\"\",\"\",IF(P26>4,S26,HLOOKUP(P26,$Q$25:$S$39,B26+1,FALSE)))","v":""},{"$f":"IF(申込用紙!I10=\"\",\"\",申込用紙!I10&\"　\"&申込用紙!L10)","v":""},null,null,null,null,{"$f":"IF(申込用紙!G10=\"\",\"\",申込用紙!G10)","v":""},"年",null,{"$f":"申込用紙!E10","v":0},{"$f":"申込用紙!F10","v":0},{"$f":"IF(N26=0,\"\",LEN(N26)+LEN(O26))","v":""},{"$f":"申込用紙!E10&\"　　\"&申込用紙!F10","v":"　　"},{"$f":"申込用紙!E10&\"　\"&申込用紙!F10","v":"　"},{"$f":"申込用紙!E10&申込用紙!F10","v":""}]
[null,2,2,null,"",{"$f":"IF(申込用紙!I11=\"\",\"\",申込用紙!I11&\"　\"&申込用紙!L11)","v":""},null,null,null,null,{"$f":"IF(申込用紙!G11=\"\",\"\",申込用紙!G11)","v":""},"年",null,{"$f":"申込用紙!E11","v":0},{"$f":"申込用紙!F11","v":0},{"$f":"IF(N27=0,\"\",LEN(N27)+LEN(O27))","v":""},{"$f":"申込用紙!E11&\"　　\"&申込用紙!F11","v":"　　"},{"$f":"申込用紙!E11&\"　\"&申込用紙!F11","v":"　"},{"$f":"申込用紙!E11&申込用紙!F11","v":""}]
[null,3,3,null,"",{"$f":"IF(申込用紙!I12=\"\",\"\",申込用紙!I12&\"　\"&申込用紙!L12)","v":""},null,null,null,null,{"$f":"IF(申込用紙!G12=\"\",\"\",申込用紙!G12)","v":""},"年",null,{"$f":"申込用紙!E12","v":0},{"$f":"申込用紙!F12","v":0},"",{"$f":"申込用紙!E12&\"　　\"&申込用紙!F12","v":"　　"},{"$f":"申込用紙!E12&\"　\"&申込用紙!F12","v":"　"},{"$f":"申込用紙!E12&申込用紙!F12","v":""}]
[null,4,4,null,"",{"$f":"IF(申込用紙!I13=\"\",\"\",申込用紙!I13&\"　\"&申込用紙!L13)","v":""},null,null,null,null,{"$f":"IF(申込用紙!G13=\"\",\"\",申込用紙!G13)","v":""},"年",null,{"$f":"申込用紙!E13","v":0},{"$f":"申込用紙!F13","v":0},"",{"$f":"申込用紙!E13&\"　　\"&申込用紙!F13","v":"　　"},{"$f":"申込用紙!E13&\"　\"&申込用紙!F13","v":"　"},{"$f":"申込用紙!E13&申込用紙!F13","v":""}]
[null,5,5,null,"",{"$f":"IF(申込用紙!I14=\"\",\"\",申込用紙!I14&\"　\"&申込用紙!L14)","v":""},null,null,null,null,{"$f":"IF(申込用紙!G14=\"\",\"\",申込用紙!G14)","v":""},"年",null,{"$f":"申込用紙!E14","v":0},{"$f":"申込用紙!F14","v":0},"",{"$f":"申込用紙!E14&\"　　\"&申込用紙!F14","v":"　　"},{"$f":"申込用紙!E14&\"　\"&申込用紙!F14","v":"　"},{"$f":"申込用紙!E14&申込用紙!F14","v":""}]
[null,6,"6(補）",null,"",{"$f":"IF(申込用紙!I15=\"\",\"\",申込用紙!I15&\"　\"&申込用紙!L15)","v":""},null,null,null,null,{"$f":"IF(申込用紙!G15=\"\",\"\",申込用紙!G15)","v":""},"年",null,{"$f":"申込用紙!E15","v":0},{"$f":"申込用紙!F15","v":0},"",{"$f":"申込用紙!E15&\"　　\"&申込用紙!F15","v":"　　"},{"$f":"申込用紙!E15&\"　\"&申込用紙!F15","v":"　"},{"$f":"申込用紙!E15&申込用紙!F15","v":""}]
[null,7,"7(補）",null,"",{"$f":"IF(申込用紙!I16=\"\",\"\",申込用紙!I16&\"　\"&申込用紙!L16)","v":""},null,null,null,null,{"$f":"IF(申込用紙!G16=\"\",\"\",申込用紙!G16)","v":""},"年",null,{"$f":"申込用紙!E16","v":0},{"$f":"申込用紙!F16","v":0},"",{"$f":"申込用紙!E16&\"　　\"&申込用紙!F16","v":"　　"},{"$f":"申込用紙!E16&\"　\"&申込用紙!F16","v":"　"},{"$f":"申込用紙!E16&申込用紙!F16","v":""}]
[null,8,1,null,"",{"$f":"IF(申込用紙!I22=\"\",\"\",申込用紙!I22&\"　\"&申込用紙!L22)","v":""},null,null,null,null,{"$f":"IF(申込用紙!G22=\"\",\"\",申込用紙!G22)","v":""},"年",null,{"$f":"申込用紙!E22","v":0},{"$f":"申込用紙!F22","v":0},{"$f":"IF(N33=0,\"\",LEN(N33)+LEN(O33))","v":""},{"$f":"申込用紙!E22&\"　　\"&申込用紙!F22","v":"　　"},{"$f":"申込用紙!E22&\"　\"&申込用紙!F22","v":"　"},{"$f":"申込用紙!E22&申込用紙!F22","v":""}]
[null,9,2,null,"",{"$f":"IF(申込用紙!I23=\"\",\"\",申込用紙!I23&\"　\"&申込用紙!L23)","v":""},null,null,null,null,{"$f":"IF(申込用紙!G23=\"\",\"\",申込用紙!G23)","v":""},"年",null,{"$f":"申込用紙!E23","v":0},{"$f":"申込用紙!F23","v":0},{"$f":"IF(N34=0,\"\",LEN(N34)+LEN(O34))","v":""},{"$f":"申込用紙!E23&\"　　\"&申込用紙!F23","v":"　　"},{"$f":"申込用紙!E23&\"　\"&申込用紙!F23","v":"　"},{"$f":"申込用紙!E23&申込用紙!F23","v":""}]
[null,10,3,null,"",{"$f":"IF(申込用紙!I24=\"\",\"\",申込用紙!I24&\"　\"&申込用紙!L24)","v":""},null,null,null,null,{"$f":"IF(申込用紙!G24=\"\",\"\",申込用紙!G24)","v":""},"年",null,{"$f":"申込用紙!E24","v":0},{"$f":"申込用紙!F24","v":0},"",{"$f":"申込用紙!E24&\"　　\"&申込用紙!F24","v":"　　"},{"$f":"申込用紙!E24&\"　\"&申込用紙!F24","v":"　"},{"$f":"申込用紙!E24&申込用紙!F24","v":""}]
[null,11,4,null,"",{"$f":"IF(申込用紙!I25=\"\",\"\",申込用紙!I25&\"　\"&申込用紙!L25)","v":""},null,null,null,null,{"$f":"IF(申込用紙!G25=\"\",\"\",申込用紙!G25)","v":""},"年",null,{"$f":"申込用紙!E25","v":0},{"$f":"申込用紙!F25","v":0},"",{"$f":"申込用紙!E25&\"　　\"&申込用紙!F25","v":"　　"},{"$f":"申込用紙!E25&\"　\"&申込用紙!F25","v":"　"},{"$f":"申込用紙!E25&申込用紙!F25","v":""}]
[null,12,5,null,"",{"$f":"IF(申込用紙!I26=\"\",\"\",申込用紙!I26&\"　\"&申込用紙!L26)","v":""},null,null,null,null,{"$f":"IF(申込用紙!G26=\"\",\"\",申込用紙!G26)","v":""},"年",null,{"$f":"申込用紙!E26","v":0},{"$f":"申込用紙!F26","v":0},"",{"$f":"申込用紙!E26&\"　　\"&申込用紙!F26","v":"　　"},{"$f":"申込用紙!E26&\"　\"&申込用紙!F26","v":"　"},{"$f":"申込用紙!E26&申込用紙!F26","v":""}]
[null,13,"6(補）",null,"",{"$f":"IF(申込用紙!I27=\"\",\"\",申込用紙!I27&\"　\"&申込用紙!L27)","v":""},null,null,null,null,{"$f":"IF(申込用紙!G27=\"\",\"\",申込用紙!G27)","v":""},"年",null,{"$f":"申込用紙!E27","v":0},{"$f":"申込用紙!F27","v":0},"",{"$f":"申込用紙!E27&\"　　\"&申込用紙!F27","v":"　　"},{"$f":"申込用紙!E27&\"　\"&申込用紙!F27","v":"　"},{"$f":"申込用紙!E27&申込用紙!F27","v":""}]
[null,14,"7(補）",null,"",{"$f":"IF(申込用紙!I28=\"\",\"\",申込用紙!I28&\"　\"&申込用紙!L28)","v":""},null,null,null,null,{"$f":"IF(申込用紙!G28=\"\",\"\",申込用紙!G28)","v":""},"年",null,{"$f":"申込用紙!E28","v":0},{"$f":"申込用紙!F28","v":0},"",{"$f":"申込用紙!E28&\"　　\"&申込用紙!F28","v":"　　"},{"$f":"申込用紙!E28&\"　\"&申込用紙!F28","v":"　"},{"$f":"申込用紙!E28&申込用紙!F28","v":""}]